BEGIN:VCALENDAR
VERSION:2.0
PRODID:-//Tukios.com/
BEGIN:VEVENT
UID:e8372a4c-1248-48e9-ad5b-e85bb95c3b53@www.strowderfh.com
DTSTAMP:20260421T012823Z
DTSTART:20260424T140000Z
DTEND:20260424T160000Z
SUMMARY:Funeral Service
DESCRIPTION:
URL:https://www.strowderfh.com/obituaries/emma-barnes
LOCATION: 822 E 105th St  Cleveland OH 44108
GEO:41.5346868;-81.6160872
END:VEVENT
END:VCALENDAR