BEGIN:VCALENDAR
VERSION:2.0
PRODID:-//Tukios.com/
BEGIN:VEVENT
UID:bcf7467a-6055-49dd-a4d6-1d06e51240f8@www.strowderfh.com
DTSTAMP:20260421T012909Z
DTSTART:20260424T133000Z
DTEND:20260424T140000Z
SUMMARY:Visitation
DESCRIPTION:
URL:https://www.strowderfh.com/obituaries/emma-barnes
LOCATION: 822 E 105th St  Cleveland OH 44108
GEO:41.5346868;-81.6160872
END:VEVENT
END:VCALENDAR