BEGIN:VCALENDAR
VERSION:2.0
PRODID:-//Tukios.com/
BEGIN:VEVENT
UID:c8407d02-4d17-4c22-8ba1-5976f35cab3a@www.strowderfh.com
DTSTAMP:20260421T012432Z
DTSTART:20260423T140000Z
DTEND:20260423T220000Z
SUMMARY:Viewing
DESCRIPTION:
URL:https://www.strowderfh.com/obituaries/emma-barnes
LOCATION: 822 E 105th St  Cleveland OH 44108
GEO:41.5346868;-81.6160872
END:VEVENT
END:VCALENDAR