BEGIN:VCALENDAR
VERSION:2.0
PRODID:-//Tukios.com/
BEGIN:VEVENT
UID:374db3fb-dc52-4945-b27d-3bf1af77b1bb@www.strowderfh.com
DTSTAMP:20260421T012843Z
DTSTART:20260502T170000Z
DTEND:20260502T190000Z
SUMMARY:Funeral Service
DESCRIPTION:
URL:https://www.strowderfh.com/obituaries/dean-stowers
LOCATION: 822 E 105th St  Cleveland OH 44108
GEO:41.5346868;-81.6160872
END:VEVENT
END:VCALENDAR