BEGIN:VCALENDAR
VERSION:2.0
PRODID:-//Tukios.com/
BEGIN:VEVENT
UID:b94b2bb1-c65a-4600-9f98-f692bf378733@www.strowderfh.com
DTSTAMP:20260421T012643Z
DTSTART:20260502T163000Z
DTEND:20260502T170000Z
SUMMARY:Visitation
DESCRIPTION:
URL:https://www.strowderfh.com/obituaries/dean-stowers
LOCATION: 822 E 105th St  Cleveland OH 44108
GEO:41.5346868;-81.6160872
END:VEVENT
END:VCALENDAR