BEGIN:VCALENDAR
VERSION:2.0
PRODID:-//Tukios.com/
BEGIN:VEVENT
UID:2d5a3dae-e7aa-4b07-980f-6fbb4335d46e@www.strowderfh.com
DTSTAMP:20260422T194903Z
DTSTART:20260501T140000Z
DTEND:20260501T160000Z
SUMMARY:Funeral Service
DESCRIPTION:
URL:https://www.strowderfh.com/obituaries/cindy-wynn-kilgo
LOCATION: 822 E 105th St  Cleveland OH 44108
GEO:41.5346868;-81.6160872
END:VEVENT
END:VCALENDAR