BEGIN:VCALENDAR
VERSION:2.0
PRODID:-//Tukios.com/
BEGIN:VEVENT
UID:f991ee76-dd11-4ce0-8e52-aba7292cc5e7@www.strowderfh.com
DTSTAMP:20260422T195220Z
DTSTART:20260501T133000Z
DTEND:20260501T140000Z
SUMMARY:Visitation
DESCRIPTION:
URL:https://www.strowderfh.com/obituaries/cindy-wynn-kilgo
LOCATION: 822 E 105th St  Cleveland OH 44108
GEO:41.5346868;-81.6160872
END:VEVENT
END:VCALENDAR