BEGIN:VCALENDAR
VERSION:2.0
PRODID:-//Tukios.com/
BEGIN:VEVENT
UID:38253c19-2e78-49bc-ab5a-60da3ba20c9b@www.strowderfh.com
DTSTAMP:20260422T185335Z
DTSTART:20260501T170000Z
DTEND:20260501T190000Z
SUMMARY:Funeral Service
DESCRIPTION:
URL:https://www.strowderfh.com/obituaries/alice-butler
LOCATION: 861 East 105th Street  Cleveland OH 44108
GEO:41.53343;-81.6151216
END:VEVENT
END:VCALENDAR