BEGIN:VCALENDAR
VERSION:2.0
PRODID:-//Tukios.com/
BEGIN:VEVENT
UID:cbd0213c-5a7e-4d64-bf42-62fb4d76cd20@www.strowderfh.com
DTSTAMP:20260422T190021Z
DTSTART:20260501T163000Z
DTEND:20260501T170000Z
SUMMARY:Visitation
DESCRIPTION:
URL:https://www.strowderfh.com/obituaries/alice-butler
LOCATION: 861 East 105th Street  Cleveland OH 44108
GEO:41.53343;-81.6151216
END:VEVENT
END:VCALENDAR