BEGIN:VCALENDAR
VERSION:2.0
PRODID:-//Tukios.com/
BEGIN:VEVENT
UID:90cec090-f0b4-43e3-8845-bdb21c704fc3@www.strowderfh.com
DTSTAMP:20260422T185447Z
DTSTART:20260430T140000Z
DTEND:20260430T220000Z
SUMMARY:Viewing
DESCRIPTION:
URL:https://www.strowderfh.com/obituaries/alice-butler
LOCATION: 822 E 105th St  Cleveland OH 44108
GEO:41.5346868;-81.6160872
END:VEVENT
END:VCALENDAR